BEGIN:VCALENDAR
VERSION:2.0
PRODID:-//ChamberMaster//Event Calendar 2.0//EN
METHOD:PUBLISH
X-PUBLISHED-TTL:P3D
REFRESH-INTERVAL:P3D
CALSCALE:GREGORIAN
BEGIN:VEVENT
DTSTART:20160421T220000Z
DTEND:20160422T000000Z
X-MICROSOFT-CDO-ALLDAYEVENT:FALSE
SUMMARY:Vote for Great HEART Give at Business After Hours!
DESCRIPTION:What is The Great HEART Give?\n\nThe Great HEART Give is Heart Technologies' way of helping local nonprofit organizations. Focusing on Peoria\, Decatur\, Springfield\, and Bloomington areas\, the community votes and decides who takes home a a $10\,000 technology grant from Heart Technologies. This is also a great way for nonprofits to share their mission and gain more support.\n\n \n\nHow can I vote for my nonprofit?\nPolls will be open TODAY on our website (www.thegreatHEARTgive.com)\, but come to Business After Hours at EastPort Marina (701 Mariners Way\, East Peoria\, IL 61611) to vote in person for an additional 20 votes for each in-person ballot cast!
X-ALT-DESC;FMTTYPE=text/html:<strong><span style="color: rgb(38\, 38\, 38)\;"><span style="font-family: helvetica\;"><span style="font-size: 20pt\;">What is The Great HEART Give?</span></span></span></strong><br />\n<span style="font-size: 14px\;"><span style="color: rgb(38\, 38\, 38)\;"><span style="font-family: helvetica\;">The Great HEART Give is Heart Technologies&#39\; way of helping local nonprofit organizations. Focusing on Peoria\, Decatur\, Springfield\, and Bloomington areas\, the community votes and decides who takes home a a $10\,000 technology grant from Heart Technologies. This is also a great way for nonprofits to share their mission and gain more support.</span></span></span>\n\n<h2>&nbsp\;<br />\n<strong>How can I vote for my nonprofit?</strong></h2>\nPolls will be open<span style="font-size: 12px\;"> TODAY on our website (www.thegreatHEARTgive.com)\, but come to Business After Hours at EastPort Marina (<span style="color: rgb(34\, 34\, 34)\; font-family: arial\,sans-serif-light\,sans-serif\;">701 Mariners Way\, East Peoria\, IL 61611) to vote in person for an additional 20 votes for each in-person ballot cast!</span></span>
LOCATION:EastPort Marina 701 Mariners Way East Peoria\, IL 61611
UID:e.526.3000
SEQUENCE:3
DTSTAMP:20260424T135928Z
URL:https://business.epcc.org/events/details/vote-for-great-heart-give-at-business-after-hours-04-21-2016-3000
END:VEVENT

END:VCALENDAR
