BEGIN:VCALENDAR
VERSION:2.0
PRODID:-//ChamberMaster//Event Calendar 2.0//EN
METHOD:PUBLISH
X-PUBLISHED-TTL:P3D
REFRESH-INTERVAL:P3D
CALSCALE:GREGORIAN
BEGIN:VEVENT
DTSTART:20181109T140000Z
DTEND:20181109T143000Z
X-MICROSOFT-CDO-ALLDAYEVENT:FALSE
SUMMARY:Wal-Mart East Peoria\, Re-Grand Opening
DESCRIPTION:Join us at Wal-Mart in East Peoria\, IL for ribbon cutting for their Re-Grand Opening.
X-ALT-DESC;FMTTYPE=text/html:Join us at Wal-Mart in East Peoria\, IL for ribbon cutting for their Re-Grand Opening.
LOCATION:401 River Road East Peoria\, IL
UID:e.526.5648
SEQUENCE:3
DTSTAMP:20260421T022945Z
URL:https://business.epcc.org/events/details/wal-mart-east-peoria-re-grand-opening-5648
END:VEVENT

END:VCALENDAR
