BEGIN:VCALENDAR
VERSION:2.0
PRODID:-//ChamberMaster//Event Calendar 2.0//EN
METHOD:PUBLISH
X-PUBLISHED-TTL:P3D
REFRESH-INTERVAL:P3D
CALSCALE:GREGORIAN
BEGIN:VEVENT
DTSTART:20200811T170000Z
DTEND:20200811T180000Z
X-MICROSOFT-CDO-ALLDAYEVENT:FALSE
SUMMARY:Website Localization to Help you Grow Your Exports\, Sales\, Brand\, and Business Online Globally
DESCRIPTION:Online business development tools have never been so important to meet the challenges posed by COVID-19. Whether you are B2C or B2B\, sell through e-commerce or distributors and sales reps\, a localized online presence will help you be found\, understood\, and easier to do business within your target markets. Join us as we share expertise and experience in delivering localized websites and online marketing to help you grow your exports\, sales\, brand\, and business.\n\n\n\nSpeaker:  Samantha Soffici - Online Business Development Manager\, IBT Online
X-ALT-DESC;FMTTYPE=text/html:<p style="margin-left:18pt"><span style="background-color:transparent\; color:rgb(0\, 0\, 0)\; font-family:times new roman\; font-size:11pt">Online business development tools have never been so important to meet the challenges posed by COVID-19. Whether you are B2C or B2B\, sell through e-commerce or distributors and sales reps\, a localized online presence will help you be found\, understood\, and easier to do business within your target markets. Join us as we share expertise and experience in delivering localized websites and online marketing to help you grow your exports\, sales\, brand\, and business.<br />\n<br />\nSpeaker</span><span style="background-color:transparent\; color:rgb(0\, 0\, 0)\; font-family:times new roman\; font-size:11pt">:&nbsp\;&nbsp\;</span><span style="font-family:times new roman\; font-size:11pt">Samantha Soffici - Online Business Development Manager\, IBT Online&nbsp\;&nbsp\;</span></p>\n
LOCATION:Webinar
UID:e.526.6441
SEQUENCE:3
DTSTAMP:20260420T231433Z
URL:https://business.epcc.org/events/details/website-localization-to-help-you-grow-your-exports-sales-brand-and-business-online-globally-6441
END:VEVENT

END:VCALENDAR
