BEGIN:VCALENDAR
VERSION:2.0
PRODID:-//ChamberMaster//Event Calendar 2.0//EN
METHOD:PUBLISH
X-PUBLISHED-TTL:P3D
REFRESH-INTERVAL:P3D
CALSCALE:GREGORIAN
BEGIN:VEVENT
DTSTART:20160510T233000Z
DTEND:20160511T003000Z
X-MICROSOFT-CDO-ALLDAYEVENT:FALSE
SUMMARY:Well-Being is a Skill
DESCRIPTION:Hosted by the University of Illinois College of Medicine - Peoria\, Well-Being is a Skill will be held on Tuesday\, May 10 in Peoria. Guest speaker Dr. Richard Davidson\, a renowned neuroscientist named one of Time Magazine's 100 Most Influential People in the World in 2006\, will speak about transforming the mind to improve well-being.
X-ALT-DESC;FMTTYPE=text/html:Hosted by the University of Illinois College of Medicine - Peoria\, Well-Being is a Skill will be held on Tuesday\, May 10 in Peoria. Guest speaker Dr. Richard Davidson\, a renowned neuroscientist named one of Time Magazine&#39\;s 100 Most Influential People in the World in 2006\, will speak about transforming the mind to improve well-being.
LOCATION:Jump Simulation 1306 N. Berkeley Ave. (Adjacent to OSF Saint Francis Medical Center Peoria\, IL 61603
UID:e.526.3079
SEQUENCE:3
DTSTAMP:20260424T122933Z
URL:https://business.epcc.org/events/details/well-being-is-a-skill-05-10-2016-3079
END:VEVENT

END:VCALENDAR
