BEGIN:VCALENDAR
VERSION:2.0
PRODID:-//ChamberMaster//Event Calendar 2.0//EN
METHOD:PUBLISH
X-PUBLISHED-TTL:P3D
REFRESH-INTERVAL:P3D
CALSCALE:GREGORIAN
BEGIN:VEVENT
DTSTART:20190505T170000Z
DTEND:20190505T220000Z
X-MICROSOFT-CDO-ALLDAYEVENT:FALSE
SUMMARY:Wheels O' Time Demonstration of Cushman - Powered micro midget race car
DESCRIPTION:Demonstration of a 1950's era micro midget race car powered by a modified Cushman motor scooter engine. The car was built by Dave Harms in 2018 from plans published in 1955 in Science and Mechanics magazine. These cars were raced  on 1/10 and 1/8 mile dirt tracks under the sanction of the Peoria Illinois Micro Midget Auto Club. Tracks were located in Peoria\, Bloomington\, Towanda\, McComb\, and Galesburg. The cars also ran at the Heart of Illinois Fair and in the winter inside Bates' Barn which is now the Heart of Illinois Horse Arena. All the cars had to be built by the owners at that time since no manufacturers of chassis or other components existed. Parts were salvaged from auto scrap yards\, junk yards\, or whatever could be found. These cars are the great grandfathers of the modern mini sprints powered by 600cc motorcycle engines.
X-ALT-DESC;FMTTYPE=text/html:<div>\n<div>\n<div>\n<div>\n<div>Demonstration of a 1950&#39\;s era micro midget race car powered by a modified Cushman motor scooter engine. The car was built by Dave Harms in 2018 from plans published in 1955 in Science and Mechanics magazine. These cars were raced&nbsp\; on 1/10 and 1/8 mile dirt tracks under the sanction of the Peoria Illinois Micro Midget Auto Club. Tracks were located in Peoria\, Bloomington\, Towanda\, McComb\, and Galesburg. The cars also ran at the Heart of Illinois Fair and in the winter inside Bates&#39\; Barn which is now the Heart of Illinois Horse Arena. All the cars had to be built by the owners at that time since no manufacturers of chassis or other components existed. Parts were salvaged from auto scrap yards\, junk yards\, or whatever could be found. These cars are the great grandfathers of the modern mini sprints powered by 600cc motorcycle engines.</div>\n</div>\n</div>\n</div>\n</div>\n
LOCATION:Wheels O' Time Museum 1710 W Woodside Dr Dunlap\, IL 61525
UID:e.526.6022
SEQUENCE:3
DTSTAMP:20260420T183447Z
URL:https://business.epcc.org/events/details/wheels-o-time-demonstration-of-cushman-powered-micro-midget-race-car-6022
END:VEVENT

END:VCALENDAR
