BEGIN:VCALENDAR
VERSION:2.0
PRODID:-//ChamberMaster//Event Calendar 2.0//EN
METHOD:PUBLISH
X-PUBLISHED-TTL:P3D
REFRESH-INTERVAL:P3D
CALSCALE:GREGORIAN
BEGIN:VEVENT
DTSTART:20190504T160000Z
DTEND:20190504T170000Z
X-MICROSOFT-CDO-ALLDAYEVENT:FALSE
SUMMARY:Wheels O'Time Museum - Dedication of LeTourneau Steel House as IL State Historical Marker
DESCRIPTION:The public is invited to a dedication ceremony for a new Illinois State Historical Marker.  It commemorates R.G. LeTourneau and his Carefree Steel House located at the Museum.  The new marker is adjacent to the LeTourneau's Carefree Steel House which was dedicated and opened to the public one year ago. \n\n\n\nThe Carefree Steel House was donated to the Museum by Komatsu America.  It was renovated through the efforts of a partnership between the Museum\, the Central Illinois Landmarks Foundation and the Peoria Historical Society.  The Historical Marker was underwritten through a donation to the Steel House Revival Project by the Bielfeldt Foundation. Illinois State Senator David Koehler and Bill Furry\, the Executive Director of the Illinois State Historical Society will be speaking at the Historical Marker dedication ceremony.
X-ALT-DESC;FMTTYPE=text/html:<span style="color:black"><span style="font-family:calibri\,sans-serif"><span style="font-family:tahoma\;"><big>The public is invited to a dedication ceremony for a new Illinois State Historical Marker. &nbsp\;It commemorates R.G. LeTourneau and his Carefree Steel House located at the Museum.&nbsp\; The new marker is adjacent to the LeTourneau&rsquo\;s Carefree Steel House which was dedicated and opened to the public one year ago.&nbsp\;<br />\n<br />\nThe Carefree Steel House was donated to the Museum by Komatsu America.&nbsp\; It was renovated through the efforts of a partnership between the Museum\, the Central Illinois Landmarks Foundation and the Peoria Historical Society.&nbsp\; The Historical Marker was underwritten through a donation to the Steel House Revival Project by the Bielfeldt Foundation. Illinois State Senator David Koehler and Bill Furry\, the Executive Director of the Illinois State Historical Society will be speaking at the Historical Marker dedication ceremony</big></span>.</span></span>
LOCATION:Wheels O' Time Museum 1710 W. Woodside Dr. Dunlap\, IL 61525
UID:e.526.6021
SEQUENCE:3
DTSTAMP:20260420T183601Z
URL:https://business.epcc.org/events/details/wheels-o-time-museum-dedication-of-letourneau-steel-house-as-il-state-historical-marker-6021
END:VEVENT

END:VCALENDAR
