BEGIN:VCALENDAR
VERSION:2.0
PRODID:-//ChamberMaster//Event Calendar 2.0//EN
METHOD:PUBLISH
X-PUBLISHED-TTL:P3D
REFRESH-INTERVAL:P3D
CALSCALE:GREGORIAN
BEGIN:VEVENT
DTSTART:20171008T170000Z
DTEND:20171008T210000Z
X-MICROSOFT-CDO-ALLDAYEVENT:FALSE
SUMMARY:Wheels O'Time Museum Fall Festival
DESCRIPTION:Join us for our 6th Annual Fall Festival!\n\nSpecials attractions include:\n\nMusic by Dave Berchtold\n\nBlacksmithing demonstrations\n\nSteam engines\n\nAntique fire trucks\n\nAmbulance tours by AMT\n\nand much more!\n\nThe museum has 4 buildings with 30\,000 sq. ft. of exhibits including antique cars\, Rock Island Steam locomotive\, combine car\, caboose\, River & Rails\, Cat tractors\, fire trucks\, large model planes\, clock room\, music room\, WMBD radio station\, farm equipment\, fashion\, toys\, model trains\, Early Ford V8 Club display and many hands on displays.\n\nSomething for all ages.
X-ALT-DESC;FMTTYPE=text/html:Join us for our 6th Annual Fall Festival!<br />\nSpecials attractions include:<br />\nMusic by Dave Berchtold<br />\nBlacksmithing demonstrations<br />\nSteam engines<br />\nAntique fire trucks<br />\nAmbulance tours by AMT<br />\nand much more!<br />\n<span style="font-size: medium\;"><span style="font-family: times new roman\;">The museum has 4 buildings with 30\,000 sq. ft. of exhibits including antique cars\, Rock Island Steam locomotive\, combine car\, caboose\, River &amp\; Rails\, Cat tractors\, fire trucks\, large model planes\, clock room\, music room\, WMBD radio station\, farm equipment\, fashion\, toys\, model trains\, Early Ford V8 Club display and many hands on displays.</span></span><br />\n<span style="font-size: medium\;"><span style="font-family: times new roman\;">Something for all ages.</span></span><br />\n<br />\n&nbsp\;
LOCATION:1710 W. Woodside Drive Dunlap\, IL. 61525 309-243-9020
UID:e.526.4402
SEQUENCE:3
DTSTAMP:20260422T013625Z
URL:https://business.epcc.org/events/details/wheels-o-time-museum-fall-festival-4402
END:VEVENT

END:VCALENDAR
