BEGIN:VCALENDAR
VERSION:2.0
PRODID:-//ChamberMaster//Event Calendar 2.0//EN
METHOD:PUBLISH
X-PUBLISHED-TTL:P3D
REFRESH-INTERVAL:P3D
CALSCALE:GREGORIAN
BEGIN:VEVENT
DTSTART;VALUE=DATE:20170904
DTEND;VALUE=DATE:20170905
TRANSP:TRANSPARENT
X-MICROSOFT-CDO-ALLDAYEVENT:TRUE
SUMMARY:Wheels O' Time Museum open Labor Day from Noon to 5pm
DESCRIPTION:Wheels O' Time Museum is open on Labor Day\, September 4\, 2017 from noon to 5 pm.\n\n \n\nThe Blue Star Program for active military personnel ends after Labor Day for this season. (Any active military personnel and up to 5 members of their family are FREE through Labor Day.)\n\n \n\nA military vehicle called the MUTT is on display along with a display of military artifacts in one area of the museum.\n\n \n\nMany other exhibits in 4 buildings pertaining to the manufacturing history of Peoria are also on display.\n\n \n\nThe Early Ford V8 Club has three Mustang cars through the ages on display for the month.\n\n \n\nLocation: 1710 W. Woodside Dr.\, Dunlap\, Il 61525 (Rt. 40 & W. Woodside Dr.)\n\n \n\nOpen Noon to 5pm on Labor Day\n\nAdmission   $7 adults\, $3.50 ages 3-11\n\n \n\nPhone 309-243-9020\n\n \n\nwww.wheelsotime.org    Facebook\n\nwotmuseum@aol.com\n\n \n\nBobbie Rice\n\nMarketing\n\nWheels O' Time Museum\n\nHome phone 309-692-1769
X-ALT-DESC;FMTTYPE=text/html:<span style="font-size: large\;"><span style="font-family: times new roman\;">Wheels O&rsquo\; Time Museum is open on Labor Day\, September 4\, 2017 from noon to 5 pm.</span></span><br />\n&nbsp\;<br />\n<span style="font-size: large\;"><span style="font-family: times new roman\;">The Blue Star Program for active military personnel ends after Labor Day for this season. (Any active military personnel and up to 5 members of their family are FREE through Labor Day.)</span></span><br />\n&nbsp\;<br />\n<span style="font-size: large\;"><span style="font-family: times new roman\;">A military vehicle called the MUTT is on display along with a display of military artifacts in one area of the museum.</span></span><br />\n&nbsp\;<br />\n<span style="font-size: large\;"><span style="font-family: times new roman\;">Many other exhibits in 4 buildings pertaining to the manufacturing history of Peoria are also on display.</span></span><br />\n&nbsp\;<br />\n<span style="font-size: large\;"><span style="font-family: times new roman\;">The Early Ford V8 Club has three Mustang cars through the ages on display for the month.</span></span><br />\n&nbsp\;<br />\n<span style="font-size: large\;"><span style="font-family: times new roman\;">Location: 1710 W. Woodside Dr.\, Dunlap\, Il 61525 (Rt. 40 &amp\; W.&nbsp\;Woodside Dr.)</span></span><br />\n&nbsp\;<br />\n<span style="font-size: large\;"><span style="font-family: times new roman\;">Open Noon to 5pm on Labor Day</span></span><br />\n<span style="font-size: large\;"><span style="font-family: times new roman\;">Admission&nbsp\;&nbsp\; $7 adults\, $3.50 ages 3-11</span></span><br />\n&nbsp\;<br />\n<span style="font-size: large\;"><span style="font-family: times new roman\;">Phone 309-243-9020</span></span><br />\n&nbsp\;<br />\n<a href="http://www.wheelsotime.org/"><span style="font-size: large\;"><span style="font-family: times new roman\;"><span style="color: rgb(0\, 0\, 255)\;">www.wheelsotime.org</span></span></span></a><span style="font-size: large\;"><span style="font-family: times new roman\;">&nbsp\;&nbsp\;&nbsp\; Facebook</span></span><br />\n<a href="mailto:wotmuseum@aol.com"><span style="font-size: large\;"><span style="font-family: times new roman\;"><span style="color: rgb(0\, 0\, 255)\;">wotmuseum@aol.com</span></span></span></a><br />\n&nbsp\;<br />\n<span style="font-size: large\;"><span style="font-family: times new roman\;">Bobbie Rice</span></span><br />\n<span style="font-size: large\;"><span style="font-family: times new roman\;">Marketing</span></span><br />\n<span style="font-size: large\;"><span style="font-family: times new roman\;">Wheels O&rsquo\; Time Museum</span></span><br />\n<span style="font-size: large\;"><span style="font-family: times new roman\;">Home phone&nbsp\;309-692-1769</span></span><br />\n&nbsp\;
LOCATION:1710 W. Woodside Drive Dunlap\, IL. 61525
UID:e.526.4391
SEQUENCE:3
DTSTAMP:20260422T043144Z
URL:https://business.epcc.org/events/details/wheels-o-time-museum-open-labor-day-from-noon-to-5pm-4391
END:VEVENT

END:VCALENDAR
