BEGIN:VCALENDAR
VERSION:2.0
PRODID:-//ChamberMaster//Event Calendar 2.0//EN
METHOD:PUBLISH
X-PUBLISHED-TTL:P3D
REFRESH-INTERVAL:P3D
CALSCALE:GREGORIAN
BEGIN:VEVENT
DTSTART:20190501T170000Z
DTEND:20190501T220000Z
X-MICROSOFT-CDO-ALLDAYEVENT:FALSE
SUMMARY:Wheels O'Time Museum Opening
DESCRIPTION:The Wheels O' Time Museum will start its 37th season on on May 1st. The Museum provides a facility where folks of all ages can see and hear and sometimes touch\, items representing transportation\, industry\, farm and home life\, as well as entertainment\, from times past\, mostly in the central Illinois area.\nWe have a multitude of exhibits\, many interactive\, showing life in the twentieth century.
X-ALT-DESC;FMTTYPE=text/html:The Wheels O&#39\; Time Museum will start its 37th season on on May 1st. The Museum provides a facility where folks of all ages can see and hear and sometimes touch\, items representing transportation\, industry\, farm and home life\, as well as entertainment\, from times past\, mostly in the central Illinois area.\n<p>We have a multitude of exhibits\, many interactive\, showing life in the twentieth century.</p>\n
LOCATION:Wheels O' Time Museum 1710 W Woodside Drive\, Dunlap\, IL 61525
UID:e.526.6020
SEQUENCE:3
DTSTAMP:20260420T183108Z
URL:https://business.epcc.org/events/details/wheels-o-time-museum-opening-6020
END:VEVENT

END:VCALENDAR
