BEGIN:VCALENDAR
VERSION:2.0
PRODID:-//ChamberMaster//Event Calendar 2.0//EN
METHOD:PUBLISH
X-PUBLISHED-TTL:P3D
REFRESH-INTERVAL:P3D
CALSCALE:GREGORIAN
BEGIN:VEVENT
DTSTART:20151118T000000Z
DTEND:20151118T020000Z
X-MICROSOFT-CDO-ALLDAYEVENT:FALSE
SUMMARY:When Life Strikes: Financial Planning After a Job Loss
DESCRIPTION:Description: This class focuses on helping you to survive financially after an unexpected job loss. Topics include budgeting tools\, options for health insurance\, preparing for the interview process\, creating a dynamic support system\, ?and other resources to help in this time of need.\n\n\n\nPresenters: Daryl Dagit CFP \, CRPS \, CEP  and Derek Kreps MS (Savant Capital Management)\, Cindy Fleming (VisionShift).\n\n\n\nCertified Financial Planner Board of Standards Inc. owns the certification marks CFP \, Certified Financial Planner  and CFP  in the U.S.
X-ALT-DESC;FMTTYPE=text/html:<p>Description: This class focuses on helping you to survive financially after an unexpected job loss. Topics include budgeting tools\, options for health insurance\, preparing for the interview process\, creating a dynamic support system\, ?and other resources to help in this time of need.<br />\n<br />\nPresenters: Daryl Dagit CFP&reg\;\, CRPS&reg\;\, CEP&reg\; and Derek Kreps MS (Savant Capital Management)\, Cindy Fleming (VisionShift).<br />\n<br />\nCertified Financial Planner Board of Standards Inc. owns the certification marks CFP&reg\;\, Certified Financial Planner&trade\; and CFP&reg\; in the U.S.</p>\n
LOCATION:Illinois Central College - North Campus\, Hickory Hall
UID:e.526.2821
SEQUENCE:3
DTSTAMP:20260424T215656Z
URL:https://business.epcc.org/events/details/when-life-strikes-financial-planning-after-a-job-loss-11-17-2015-2821
END:VEVENT

END:VCALENDAR
