BEGIN:VCALENDAR
VERSION:2.0
PRODID:-//ChamberMaster//Event Calendar 2.0//EN
METHOD:PUBLISH
X-PUBLISHED-TTL:P3D
REFRESH-INTERVAL:P3D
CALSCALE:GREGORIAN
BEGIN:VEVENT
DTSTART:20160214T000000Z
DTEND:20160214T043000Z
X-MICROSOFT-CDO-ALLDAYEVENT:FALSE
SUMMARY:Wild About Love
DESCRIPTION:Join us this Valentine?s Day for dinner and dancing with our hostess\, Tink the Skunk! Don?t worry\, Tink does not have the ability to spray. Event begins at 6pm and guests are encouraged to stay until 10:30pm. We will have a delicious 5 course meal and free beer and wine until 7pm. After 7pm the bar will become a cash bar. A live DJ from Memory Productions will be playing the best hits all night. While you are looking your best for the evening\, a photo booth will be provided by Digital You Portraits free of charge! Dance floor\, prizes\, giveaways and fun! Cocktail or business casual attire is suggested. Tickets may be purchase over the phone by calling 309-676-0998 Members: $50 Non-Members: $75
X-ALT-DESC;FMTTYPE=text/html:Join us this Valentine?s Day for dinner and dancing with our hostess\, Tink the Skunk! Don?t worry\, Tink does not have the ability to spray. Event begins at 6pm and guests are encouraged to stay until 10:30pm. We will have a delicious 5 course meal and free beer and wine until 7pm. After 7pm the bar will become a cash bar. A live DJ from Memory Productions will be playing the best hits all night. While you are looking your best for the evening\, a photo booth will be provided by Digital You Portraits free of charge! Dance floor\, prizes\, giveaways and fun! Cocktail or business casual attire is suggested. Tickets may be purchase over the phone by calling 309-676-0998 Members: $50 Non-Members: $75
LOCATION:Wildlife Prairie Park 3826 N. Taylor Rd. Hanna City\, IL 61536
UID:e.526.2958
SEQUENCE:3
DTSTAMP:20260424T165842Z
URL:https://business.epcc.org/events/details/wild-about-love-02-13-2016-2958
END:VEVENT

END:VCALENDAR
