BEGIN:VCALENDAR
VERSION:2.0
PRODID:-//ChamberMaster//Event Calendar 2.0//EN
METHOD:PUBLISH
X-PUBLISHED-TTL:P3D
REFRESH-INTERVAL:P3D
CALSCALE:GREGORIAN
BEGIN:VEVENT
DTSTART:20181219T220000Z
DTEND:20181220T030000Z
X-MICROSOFT-CDO-ALLDAYEVENT:FALSE
SUMMARY:Wing Wednesday at Kuchie's on the Water
DESCRIPTION:Wednesday is Wing Night at Kuchie's on the Water! Enjoy 50  wings from 4-9pm - Dine-in only!
X-ALT-DESC;FMTTYPE=text/html:Wednesday is Wing Night at Kuchie&#39\;s on the Water! Enjoy 50<span style="color: rgb(76\, 76\, 76)\; font-family: AppleSDGothicNeo-Regular\, &quot\;lucida grande&quot\;\, tahoma\, verdana\, arial\, sans-serif\, &quot\;Segoe UI Emoji&quot\;\, &quot\;Segoe UI Symbol&quot\;\, NotoColorEmoji\, EmojiSymbols\, Symbola\, Noto\, &quot\;Android Emoji&quot\;\, AndroidEmoji\, &quot\;Arial Unicode MS&quot\;\, &quot\;Zapf Dingbats&quot\;\, AppleColorEmoji\, &quot\;Apple Color Emoji&quot\;\; text-align: justify\; text-indent: 27px\;">&cent\; wings from 4-9pm - Dine-in only!</span>
LOCATION:579 Wesley Rd. Creve Coeur\, IL 61610
UID:e.526.5891
SEQUENCE:3
DTSTAMP:20260421T022704Z
URL:https://business.epcc.org/events/details/wing-wednesday-at-kuchie-s-on-the-water-12-19-2018-5891
END:VEVENT

END:VCALENDAR
