BEGIN:VCALENDAR
VERSION:2.0
PRODID:-//ChamberMaster//Event Calendar 2.0//EN
METHOD:PUBLISH
X-PUBLISHED-TTL:P3D
REFRESH-INTERVAL:P3D
CALSCALE:GREGORIAN
BEGIN:VEVENT
DTSTART:20190809T230000Z
DTEND:20190810T030000Z
X-MICROSOFT-CDO-ALLDAYEVENT:FALSE
SUMMARY:Wizard of Oz at Peoria Riverfront Museum Giant Screen Theater
DESCRIPTION:The Wizard of Oz: Dinner & A Movie\n\n			Fri\, Aug 9 | 6 PM | Grand Lobby & Giant Screen Theater\n\n			 \n\n			Doors open at 6 PM\, dinner is served at 6:30 PM\n\n			 \n\n			Dust off your ruby slippers because we're off to see the Wizard at Peoria Riverfront Museum's The Wizard of Oz: Dinner & A Movie! Join us in celebration of the 80th anniversary of "The Wizard of Oz" with a themed dinner and special 3D screening of the 1939 film on the Giant Screen! Check out the Yellow Brick Sculptures in THE ART OF THE BRICK and explore our other museum galleries. Participate in hands-on activities and interact with your favorite characters from\n\n			The Spirit of Oz troupe. Be sure to take home a pair of green spectacles and a souvenir photo to remember the wonderful evening!\n\n			 \n\n			Ticket includes:\n\n			 \n			\n				Meet & greet with The Spirit of Oz characters\n				Wizard of Oz themed dinner\n				Special 3D screening of The Wizard of Oz\n				2 drink tickets\n				Popcorn\n				Souvenir photo \n				Admission to museum galleries (including The Art of the Brick)\n				Hands-on activities \n			\n			 \n\n			Dinner is open seating at tables of 8 and 10.\n\n			 \n\n			Buy tickets online now - click here!\n\n			 \n\n			To request a vegetarian meal contact DStief@peoriariverfrontmuseum.org
X-ALT-DESC;FMTTYPE=text/html:<table border="0" cellpadding="0" cellspacing="0" style="width:100.0%\;" width="100%">\n	<tbody>\n		<tr>\n			<td style="padding:0in 0in 0in 0in\;vertical-align:top\;"><span style="font-family:arial\;"><strong><span style="font-size:19.5pt\;">The Wizard of Oz: Dinner &amp\; A Movie</span></strong><br />\n			<strong><span style="font-size:10.5pt\;">Fri\, Aug 9 | 6 PM | </span></strong><strong><span style="font-size:10.5pt\;">Grand Lobby &amp\; Giant Screen Theater</span></strong><br />\n			&nbsp\;<br />\n			<strong><span style="font-size:10.5pt\;">Doors open at 6 PM\, dinner is served at 6:30 PM</span></strong><br />\n			&nbsp\;<br />\n			<span style="font-size:10.5pt\;">Dust off your ruby slippers because we&rsquo\;re off to see the Wizard at Peoria Riverfront Museum&rsquo\;s </span><span style="font-size:10.5pt\;">The Wizard of Oz: Dinner &amp\; A Movie! Join us in celebration of the 80th anniversary of &ldquo\;The Wizard of Oz&rdquo\; with a themed dinner and special 3D screening of the 1939 film on the Giant Screen! Check out the Yellow Brick Sculptures in THE ART OF THE BRICK and explore our other museum galleries. Participate in hands-on activities and interact with your favorite characters from<br />\n			The Spirit of Oz troupe. Be sure to take home a pair of green spectacles and a souvenir photo to remember the wonderful evening!</span><br />\n			&nbsp\;<br />\n			<span style="font-size:10.5pt\;">Ticket includes:</span><br />\n			&nbsp\;</span>\n			<ul>\n				<li><span style="font-family:arial\;"><span style="font-size:10.5pt\;">Meet &amp\; greet with <a href="http://peoriariverfrontmuseum.emlnk1.com/lt.php?s=7cea202dbd2fba4f12440ba687d1acf8&amp\;i=692A1243A38A13591" target="_blank" title="https://www.thespiritofoz.com"><span style="text-decoration:none\;text-underline:none\;">The Spirit of Oz</span></a> characters</span></span></li>\n				<li><span style="font-family:arial\;"><span style="font-size:10.5pt\;">Wizard of Oz themed dinner</span></span></li>\n				<li><span style="font-family:arial\;"><span style="font-size:10.5pt\;">Special 3D screening of The Wizard of Oz</span></span></li>\n				<li><span style="font-family:arial\;"><span style="font-size:10.5pt\;">2 drink tickets</span></span></li>\n				<li><span style="font-family:arial\;"><span style="font-size:10.5pt\;">Popcorn</span></span></li>\n				<li><span style="font-family:arial\;"><span style="font-size:10.5pt\;">Souvenir photo </span></span></li>\n				<li><span style="font-family:arial\;"><span style="font-size:10.5pt\;">Admission to museum galleries (including The Art of the Brick)</span></span></li>\n				<li><span style="font-family:arial\;"><span style="font-size:10.5pt\;">Hands-on activities </span></span></li>\n			</ul>\n			<span style="font-family:arial\;">&nbsp\;<br />\n			<span style="font-size:10.5pt\;">Dinner is open seating at tables of 8 and 10.</span><br />\n			&nbsp\;<br />\n			<strong><span style="font-size:10.5pt\;">Buy tickets online now - <a href="http://peoriariverfrontmuseum.emlnk1.com/lt.php?s=7cea202dbd2fba4f12440ba687d1acf8&amp\;i=692A1243A38A13592" target="_blank" title="http://peoriariverfrontmuseum.emlnk1.com/lt.php?s=7cea202dbd2fba4f12440ba687d1acf8&amp\;i=692A1243A38A13592"><span style="text-decoration:none\;text-underline:none\;">click here!</span></a></span></strong><br />\n			&nbsp\;<br />\n			<span style="font-size:10.5pt\;">To request a vegetarian meal contact <a href="mailto:%44%73%74%69%65%66%40%70%65%6f%72%69%61%72%69%76%65%72%66%72%6f%6e%74%6d%75%73%65%75%6d%2e%6f%72%67?subject=Return%20to%20Oz:%20Dinner%20&amp\;%20A%20Movie" target="_blank" title="Dstief@peoriariverfrontmuseum.org"><span style="text-decoration:none\;text-underline:none\;">DStief@peoriariverfrontmuseum.org </span></a></span></span></td>\n		</tr>\n	</tbody>\n</table>\n
LOCATION:
UID:e.526.6171
SEQUENCE:3
DTSTAMP:20260420T124316Z
URL:https://business.epcc.org/events/details/wizard-of-oz-at-peoria-riverfront-museum-giant-screen-theater-6171
END:VEVENT

END:VCALENDAR
