BEGIN:VCALENDAR
VERSION:2.0
PRODID:-//ChamberMaster//Event Calendar 2.0//EN
METHOD:PUBLISH
X-PUBLISHED-TTL:P3D
REFRESH-INTERVAL:P3D
CALSCALE:GREGORIAN
BEGIN:VEVENT
DTSTART;VALUE=DATE:20230917
DTEND;VALUE=DATE:20230918
TRANSP:TRANSPARENT
X-MICROSOFT-CDO-ALLDAYEVENT:TRUE
SUMMARY:Worship on the Green and Community Picnic
DESCRIPTION:Join us to worship outside! September 17th at 10:30 am. After our worship service we will have a community picnic. All events are FREE!
X-ALT-DESC;FMTTYPE=text/html:Join us to worship outside! September 17th at 10:30 am. After our worship service we will have a community picnic. All events are FREE!
LOCATION:First United Methodist Church of East Peoria
UID:e.526.7300
SEQUENCE:3
DTSTAMP:20260422T085703Z
URL:https://business.epcc.org/events/details/worship-on-the-green-and-community-picnic-7300
END:VEVENT

END:VCALENDAR
