BEGIN:VCALENDAR
VERSION:2.0
PRODID:-//ChamberMaster//Event Calendar 2.0//EN
METHOD:PUBLISH
X-PUBLISHED-TTL:P3D
REFRESH-INTERVAL:P3D
CALSCALE:GREGORIAN
BEGIN:VEVENT
DTSTART:20180721T180000Z
DTEND:20180721T210000Z
X-MICROSOFT-CDO-ALLDAYEVENT:FALSE
SUMMARY:Writers on the River to benefit Center for Prevention of Abuse
DESCRIPTION:We'll have over 80 romance authors in one room including\n\n New York Times and USA Today Best sellers.\n\nChat with them\, get selfies together\, or buy a signed book.\n\nAnd all proceeds go to a good cause!
X-ALT-DESC;FMTTYPE=text/html:<span style="color: rgb(81\, 81\, 81)\; font-family: Arial\, Helvetica\, sans-serif\; font-size: large\; text-align: center\;">We&#39\;ll have over 80 romance authors in one room including</span><br style="color: rgb(81\, 81\, 81)\; font-family: Arial\, Helvetica\, sans-serif\; font-size: large\; text-align: center\;" />\n<span style="color: rgb(81\, 81\, 81)\; font-family: Arial\, Helvetica\, sans-serif\; font-size: large\; text-align: center\;">&#8203\;New York Times and USA Today Best sellers.</span><br style="color: rgb(81\, 81\, 81)\; font-family: Arial\, Helvetica\, sans-serif\; font-size: large\; text-align: center\;" />\n<span style="color: rgb(81\, 81\, 81)\; font-family: Arial\, Helvetica\, sans-serif\; font-size: large\; text-align: center\;">Chat with them\, get selfies together\, or buy a signed book.</span><br style="color: rgb(81\, 81\, 81)\; font-family: Arial\, Helvetica\, sans-serif\; font-size: large\; text-align: center\;" />\n<span style="color: rgb(81\, 81\, 81)\; font-family: Arial\, Helvetica\, sans-serif\; font-size: large\; text-align: center\;">And all proceeds go to a good cause!</span>
LOCATION:Par A Dice Hotel & Casino 21 Blackjack Blvd East Peoria\, IL 61611
UID:e.526.5517
SEQUENCE:3
DTSTAMP:20260421T095939Z
URL:https://business.epcc.org/events/details/writers-on-the-river-to-benefit-center-for-prevention-of-abuse-5517
END:VEVENT

END:VCALENDAR
