BEGIN:VCALENDAR
VERSION:2.0
PRODID:-//ChamberMaster//Event Calendar 2.0//EN
METHOD:PUBLISH
X-PUBLISHED-TTL:P3D
REFRESH-INTERVAL:P3D
CALSCALE:GREGORIAN
BEGIN:VEVENT
DTSTART;VALUE=DATE:20180321
DTEND;VALUE=DATE:20180322
TRANSP:TRANSPARENT
X-MICROSOFT-CDO-ALLDAYEVENT:TRUE
SUMMARY:Writing Your Business Plan
DESCRIPTION:SCORE Peoria is offering the following free workshop:\n Writing Your Business Plan\n\nWednesday\, March 21\, 2018   9:00 AM to 4:00 PM CDT\n\n \nIf you plan to seek financing from a bank or investors\, a Business Plan is essential.  But even if you don't need outside money\, a well-written business plan defines your goals\, objectives\, and process and becomes your guide to a successful outcome.  This all-day workshop with experienced SCORE Mentors Lee Maki and Rick Cloyd will get you started with a first draft of your plan.\n\nThis workshop is FREE\, but registration is required.\n\nCall Peoria SCORE at 309-676-0755 or register online by clicking here
X-ALT-DESC;FMTTYPE=text/html:<span style="font-size: 14px\;">SCORE Peoria is offering the following free workshop:</span>\n<div style="text-align: center\;"><strong>&nbsp\;<span style="font-size: 14px\;">Writing Your Business Plan</span></strong></div>\n\n<div style="text-align: center\;"><span style="font-family: arial\,helvetica\,sans-serif\;"><span style="font-size: 14px\;"><strong>Wednesday\, March 21\, 2018 &ndash\; 9:00 AM to 4:00 PM CDT</strong></span></span></div>\n\n<div style="text-align: center\;">&nbsp\;</div>\n<span style="font-family: arial\,helvetica\,sans-serif\;"><span style="font-size: 14px\;">If you plan to seek financing from a bank or investors\, a Business Plan is essential. &nbsp\;But even if you don&rsquo\;t need outside money\, a well-written business plan defines your goals\, objectives\, and process and becomes your guide to a successful outcome.&nbsp\; This all-day workshop with experienced SCORE Mentors Lee Maki and Rick Cloyd will get you started with a first draft of your plan.</span></span>\n\n<div style="text-align: center\;"><span style="font-family: arial\,helvetica\,sans-serif\;"><strong><span style="font-size: 12pt\;">This workshop is FREE\, but registration is required.</span></strong></span></div>\n\n<div style="text-align: center\;"><span style="font-family: arial\,helvetica\,sans-serif\;"><strong><span style="font-size: 12pt\;">Call Peoria SCORE at 309-676-0755 or register online by </span></strong><a href="http://conta.cc/2Gal8yh" target="_blank"><span style="font-size: 12pt\;"><strong><span style="color: blue\;">clicking here</span></strong></span></a></span></div>\n
LOCATION:Peoria Area Chamber of Commerce Conference Room 403 N. E. Jefferson Peoria\, IL\, 61603
UID:e.526.5462
SEQUENCE:3
DTSTAMP:20260421T181826Z
URL:https://business.epcc.org/events/details/writing-your-business-plan-5462
END:VEVENT

END:VCALENDAR
