BEGIN:VCALENDAR
VERSION:2.0
PRODID:-//ChamberMaster//Event Calendar 2.0//EN
METHOD:PUBLISH
X-PUBLISHED-TTL:P3D
REFRESH-INTERVAL:P3D
CALSCALE:GREGORIAN
BEGIN:VEVENT
DTSTART:20160328T150000Z
DTEND:20160328T160000Z
X-MICROSOFT-CDO-ALLDAYEVENT:FALSE
SUMMARY:Your Best Interview Ever - for Veterans
DESCRIPTION:We'll help you prepare for an interview. Learn how to dress\, answer questions\, explain your work history\, and how to follow up after the interview.
X-ALT-DESC;FMTTYPE=text/html:We&#39\;ll help you prepare for an interview. Learn how to dress\, answer questions\, explain your work history\, and how to follow up after the interview.
LOCATION:Goodwill Commons at 2319 E. War Memorial Dr.\, Peoria\, IL 61614
UID:e.526.3048
SEQUENCE:3
DTSTAMP:20260424T152532Z
URL:https://business.epcc.org/events/details/your-best-interview-ever-for-veterans-03-28-2016-3048
END:VEVENT

END:VCALENDAR
