BEGIN:VCALENDAR
VERSION:2.0
PRODID:-//ChamberMaster//Event Calendar 2.0//EN
METHOD:PUBLISH
X-PUBLISHED-TTL:P3D
REFRESH-INTERVAL:P3D
CALSCALE:GREGORIAN
BEGIN:VEVENT
DTSTART:20150629T150000Z
DTEND:20150629T170000Z
X-MICROSOFT-CDO-ALLDAYEVENT:FALSE
SUMMARY:Your Best Interview Ever Workshop
DESCRIPTION:Providing you with tips on preparing for an interview. Areas covered will include how to dress\, answering questions\, explaining your work history\, and how to follow up after the interview.
X-ALT-DESC;FMTTYPE=text/html:Providing you with tips on preparing for an interview. Areas covered will include how to dress\, answering questions\, explaining your work history\, and how to follow up after the interview.
LOCATION:Goodwill Commons 2319 E. War Memorial Dr. Peoria\, IL 61614
UID:e.526.1686
SEQUENCE:3
DTSTAMP:20260425T031203Z
URL:https://business.epcc.org/events/details/your-best-interview-ever-workshop-06-29-2015-1686
END:VEVENT

END:VCALENDAR
